BEGIN:VCALENDAR
VERSION:2.0
PRODID:spatie/icalendar-generator
DESCRIPTION:Events from Side Effects Flowers
X-WR-CALDESC:Events from Side Effects Flowers
REFRESH-INTERVAL;VALUE=DURATION:PT1440M
X-PUBLISHED-TTL:PT1440M
BEGIN:VTIMEZONE
TZID:Etc/GMT+0
BEGIN:STANDARD
DTSTART:20231117T100000Z
TZOFFSETFROM:+0000
TZOFFSETTO:+0000
END:STANDARD
END:VTIMEZONE
BEGIN:VTIMEZONE
TZID:UTC
BEGIN:STANDARD
DTSTART:20250724T083224Z
TZOFFSETFROM:+0000
TZOFFSETTO:+0000
END:STANDARD
END:VTIMEZONE
BEGIN:VEVENT
UID:18-12
DTSTAMP:20260420T083224Z
SUMMARY:Evergreen Farmers Market At El Rancho
LOCATION:
ORGANIZER;CN=Ashley Shelton:MAILTO:ashley.shelton@atwillmedia.com
DTSTART;TZID=Etc/GMT+0:20240813T100000
DTEND;TZID=Etc/GMT+0:20240813T140000
X-ALT-DESC;FMTTYPE=TEXT/HTML:
CATEGORIES:General
URL;VALUE=URI:https://side-effectsflowers.com/mc-events/evergreen-farmers-m
 arket-at-el-rancho-4/
METHOD:PUBLISH
END:VEVENT
END:VCALENDAR